BEGIN:VCALENDAR
VERSION:2.0
PRODID:-//Hermes Country Club - ECPv6.4.0//NONSGML v1.0//EN
CALSCALE:GREGORIAN
METHOD:PUBLISH
X-WR-CALNAME:Hermes Country Club
X-ORIGINAL-URL:http://hermescountryclub.com
X-WR-CALDESC:Hermes Country Club için etkinlikler
REFRESH-INTERVAL;VALUE=DURATION:PT1H
X-Robots-Tag:noindex
X-PUBLISHED-TTL:PT1H
BEGIN:VTIMEZONE
TZID:Europe/Moscow
BEGIN:STANDARD
TZOFFSETFROM:+0300
TZOFFSETTO:+0300
TZNAME:MSK
DTSTART:20240101T000000
END:STANDARD
END:VTIMEZONE
BEGIN:VEVENT
DTSTART;VALUE=DATE:20240518
DTEND;VALUE=DATE:20240519
DTSTAMP:20260419T170155
CREATED:20240428T101527Z
LAST-MODIFIED:20240428T101527Z
UID:3670-1715990400-1716076799@hermescountryclub.com
SUMMARY:Aziz Kiraz ile Açık Hava Konseri
DESCRIPTION:Aziz Kiraz ile Açık Hava Konseri: Hermes Country Club’ta Unutulmaz Bir Müzik Keyfi! 🌟🎸​ \nAziz Kiraz’ın eşsiz performansıyla Hermes Country Club’ın açık hava konserinde unutulmaz bir geceye hazır mısınız? Lezzetli yemeklerin ve içeceklerin tadını çıkarırken\, canlı müzik eşliğinde keyif dolu anlar yaşayın. Sizleri bekliyoruz! 🌿🎶​ \n​📅 Tarih: 18 Mayıs​\n📍Yer: Hermes Country Club​ \nBu keyifli gecede siz de yer alın!​\n🎶Rezervasyon ve detaylar için mesaj atabilirsiniz.​
URL:http://hermescountryclub.com/etkinlikler/aziz-kiraz-ile-acik-hava-konseri/
LOCATION:Hermes Country Club\, Mahmutşevketpaşa\, Mukaddes Sk No:38\, 34829 Beykoz/İstanbul\, İstanbul\, Türkiye
END:VEVENT
END:VCALENDAR